BEGIN:VCALENDAR
VERSION:2.0
PRODID:-//Michigan FOP - ECPv6.0.10//NONSGML v1.0//EN
CALSCALE:GREGORIAN
METHOD:PUBLISH
X-WR-CALNAME:Michigan FOP
X-ORIGINAL-URL:https://mifop.com
X-WR-CALDESC:Events for Michigan FOP
REFRESH-INTERVAL;VALUE=DURATION:PT1H
X-Robots-Tag:noindex
X-PUBLISHED-TTL:PT1H
BEGIN:VTIMEZONE
TZID:America/Detroit
BEGIN:DAYLIGHT
TZOFFSETFROM:-0500
TZOFFSETTO:-0400
TZNAME:EDT
DTSTART:20250309T070000
END:DAYLIGHT
BEGIN:STANDARD
TZOFFSETFROM:-0400
TZOFFSETTO:-0500
TZNAME:EST
DTSTART:20251102T060000
END:STANDARD
END:VTIMEZONE
BEGIN:VEVENT
DTSTART;TZID=America/Detroit:20250201T093000
DTEND;TZID=America/Detroit:20250201T170000
DTSTAMP:20260420T042021
CREATED:20240623T215437Z
LAST-MODIFIED:20240828T144103Z
UID:5119-1738402200-1738429200@mifop.com
SUMMARY:Winter Board Meeting
DESCRIPTION:
URL:https://mifop.com/event/winter-board-meeting-4/
LOCATION:Grand Rapids
ATTACH;FMTTYPE=image/png:https://mifop.com/wp-content/uploads/2024/06/Michigan-fop-winter-board-meeting.png
END:VEVENT
BEGIN:VEVENT
DTSTART;TZID=America/Detroit:20250211T190000
DTEND;TZID=America/Detroit:20250211T190000
DTSTAMP:20260420T042021
CREATED:20241212T012333Z
LAST-MODIFIED:20241212T012333Z
UID:5392-1739300400-1739300400@mifop.com
SUMMARY:Michigan Basketball Community Heroes
DESCRIPTION:Join us on February 11 as Michigan Basketball hosts its 7th Annual Community Heroes Night\, with a special focus on our dedicated First Responders and their loved ones. \nThis event offers a unique opportunity to show appreciation for these selfless heroes. For just $29.99\, you can secure a ticket to the game as well as a special opportunity to take a free throw down on the court after the game! \nDon’t miss this chance to celebrate and recognize our Community Heroes on this remarkable evening. \nIf purchasing a group of tickets\, to guarantee your seats are together\, you need to order your tickets simultaneously. If you order at different times\, your seats will not be located next to your original order. Please note that tickets are subject to availability. Tickets are minimal. Offer not valid at the Michigan Box Office.
URL:https://mifop.com/event/michigan-basketball-community-heroes/
LOCATION:Crisler Center\, 333 E Stadium Blvd\, Ann Arbor\, MI\, 48109\, United States
ATTACH;FMTTYPE=image/png:https://mifop.com/wp-content/uploads/2023/07/Michigan_Wolverines_Logo.png
END:VEVENT
END:VCALENDAR