BEGIN:VCALENDAR
VERSION:2.0
PRODID:-//Michigan FOP - ECPv6.0.10//NONSGML v1.0//EN
CALSCALE:GREGORIAN
METHOD:PUBLISH
X-WR-CALNAME:Michigan FOP
X-ORIGINAL-URL:https://mifop.com
X-WR-CALDESC:Events for Michigan FOP
REFRESH-INTERVAL;VALUE=DURATION:PT1H
X-Robots-Tag:noindex
X-PUBLISHED-TTL:PT1H
BEGIN:VTIMEZONE
TZID:America/Detroit
BEGIN:DAYLIGHT
TZOFFSETFROM:-0500
TZOFFSETTO:-0400
TZNAME:EDT
DTSTART:20230312T070000
END:DAYLIGHT
BEGIN:STANDARD
TZOFFSETFROM:-0400
TZOFFSETTO:-0500
TZNAME:EST
DTSTART:20231105T060000
END:STANDARD
END:VTIMEZONE
BEGIN:VEVENT
DTSTART;TZID=America/Detroit:20230101T163000
DTEND;TZID=America/Detroit:20230101T163000
DTSTAMP:20260420T070129
CREATED:20221211T171651Z
LAST-MODIFIED:20221211T172302Z
UID:4110-1672590600-1672590600@mifop.com
SUMMARY:Michigan Basketball Heroes Offer
DESCRIPTION:Michigan Basketball is excited to announce its 5th annual Heroes ticket offer this season! Without any college football on New Year’s Day this year\, we are eager to help our Communities Heroes still be able to ring in the New Year with Michigan Athletics! A limited number of tickets for our New Year’s Day matchup with Maryland have been discounted to just $25 after fees.
URL:https://mifop.com/event/michigan-basketball-heroes-offer/
LOCATION:Crisler Center\, 333 E Stadium Blvd\, Ann Arbor\, MI\, 48109\, United States
ATTACH;FMTTYPE=image/png:https://mifop.com/wp-content/uploads/2022/12/4aoCiJNo_400x400.png
END:VEVENT
END:VCALENDAR